Workbook
Name actes_donation: Situ_perso!#REF!
Name attestation_caisse_aide_personnalisee: couverture_sociale!$I$10
Name attestation_caisse_alloc_fam: couverture_sociale!$I$9
Name attestation_caisse_maladie: couverture_sociale!$I$5
Name attestation_caisse_vieillesse: couverture_sociale!$I$7
Name attestation_carte_invalidité: couverture_sociale!$I$8
Name attestation_carte_vitale: couverture_sociale!$I$6
Name bail_principale: residences!$G$23
Name bail_secondaire: residences!$G$46
Name caution_bien_loc: residences!$G$67
Name caution_principale: residences!$G$21
Name caution_secondaire: residences!$G$44
Name contrat_emprunt_bien_loc: residences!$G$63
Name contrat_emprunt_principale: residences!$G$17
Name contrat_emprunt_secondaire: residences!$G$40
Name contrat_mariage_pacs: Situ_perso!#REF!
Name courriel: 'AVANT DE COMMENCER'!$C$9
Name dossier_foncier_bien_loc: residences!$G$68
Name etat_genealogique: Situ_perso!$H$79
Name hypotheque_bien_loc: residences!$G$66
Name hypotheque_principale: residences!$G$20
Name hypotheque_secondaire: residences!$G$43
Name jugement_divorce: Situ_perso!#REF!
Name livret_militaire: Situ_perso!#REF!
Name mandat_protection_future: couverture_sociale!$F$17
Name nom: 'AVANT DE COMMENCER'!$C$7
Name prenom: 'AVANT DE COMMENCER'!$C$8
Name testament: Situ_perso!#REF!
Name titre_propriete_bien_loc: residences!$G$62
Name titre_propriete_principale: residences!$G$16
Name titre_propriete_secondaire: residences!$G$39

Sheet AVANT DE COMMENCER
B2: Avant de commencer - Vos coordonnées
B3: Merci de renseigner ici vos coordonnées qui seront reprises dans le dossier
F5: 1 | H5: =F5+1 -> 2 | J5: =H5+1 -> 3
F6: ="fiche "&F5 -> fiche 1 | H6: ="fiche "&H5 -> fiche 2 | J6: ="fiche "&J5 -> fiche 3
B7: Votre nom | C7: Nom test
B8: Votre prénom | C8: Prénom Test
B9: Votre mail | C9: Mail Test

Sheet Accueil
B2: Dossier Patrimonial du Retraité
C4: =+nom&" "&prenom -> Nom test Prénom Test
C5: =+courriel -> Mail Test
B10: Cet outil proposé par l'association ECR Fédération
B11: Il est à usage restreint dans le cadre de votre dossier personnel

Sheet Sommaire
B2: Dossier Patrimonial du Retraité
B3: - Sommaire -
C5: Accueil
C6: Accueil | D6: Ü | E6: =+HYPERLINK("#"&"'"&J6&"'!E2","Atteindre") -> Atteindre | J6: Accueil
C7: Présentation | D7: Ü | E7: =+HYPERLINK("#"&"'"&J7&"'!E2","Atteindre") -> Atteindre | J7: Présentation
C8: Mode d'emploi | D8: Ü | E8: =+HYPERLINK("#"&"'"&J8&"'!C2","Atteindre") -> Atteindre | J8: Mode_emploi
C9: Liste des docs par fiche | D9: Ü | E9: =+HYPERLINK("#"&"'"&J9&"'!E2","Atteindre") -> Atteindre | J9: Liste des docs nécessaires
C10: {=+INDIRECT("'"&J10&"'!B2")} -> Avant de commencer - Vos coordonnées | D10: Ü | E10: =+HYPERLINK("#"&"'"&J10&"'!B2","Atteindre") -> Atteindre | J10: AVANT DE COMMENCER
C11: Situation personnelle
B12: Fiche 1 | C12: {=+INDIRECT("'"&J12&"'!E2")} -> Votre situation personnelle | D12: Ü | E12: =+HYPERLINK("#"&"'"&J12&"'!E2","Atteindre") -> Atteindre | J12: situ_perso
B13: Fiche 2 | C13: {=+INDIRECT("'"&J13&"'!E2")} -> Situation post-mortem | D13: Ü | E13: =+HYPERLINK("#"&"'"&J13&"'!E2","Atteindre") -> Atteindre | J13: situ_post_mortem
B14: Fiche 3 | C14: {=+INDIRECT("'"&J14&"'!E2")} -> Liste des personnes vivant au foyer et à charge | D14: Ü | E14: =+HYPERLINK("#"&"'"&J14&"'!E2","Atteindre") -> Atteindre | J14: personnes_du_foyer
B15: Fiche 4 | C15: {=+INDIRECT("'"&J15&"'!E2")} -> Objectifs patrimoniaux | D15: Ü | E15: =+HYPERLINK("#"&"'"&J15&"'!E2","Atteindre") -> Atteindre | J15: objectifs_patrimoniaux
B16: Fiche 5 | C16: {=+INDIRECT("'"&J16&"'!E2")} -> Couverture sociale | D16: Ü | E16: =+HYPERLINK("#"&"'"&J16&"'!E2","Atteindre") -> Atteindre | J16: couverture_sociale
B17: Fiche 6 | C17: {=+INDIRECT("'"&J17&"'!E2")} -> Fiscalité personnelle | D17: Ü | E17: =+HYPERLINK("#"&"'"&J17&"'!E2","Atteindre") -> Atteindre | J17: fiscalite_perso
C18: Revenus/Budget
B19: Fiche 7 | C19: {=+INDIRECT("'"&J19&"'!E2")} -> Etat détaillé des dépenses courantes annuelles | D19: Ü | E19: =+HYPERLINK("#"&"'"&J19&"'!E2","Atteindre") -> Atteindre | J19: depenses_courantes
B20: Fiche 8 | C20: {=+INDIRECT("'"&J20&"'!E2")} -> Budget de vie actuel et futur | D20: Ü | E20: =+HYPERLINK("#"&"'"&J20&"'!E2","Atteindre") -> Atteindre | J20: budget
B21: Fiche 9 | C21: {=+INDIRECT("'"&J21&"'!E2")} -> Revenu minimum du conjoint survivant : Monsieur - Madame - Enfants | D21: Ü | E21: =+HYPERLINK("#"&"'"&J21&"'!E2","Atteindre") -> Atteindre | J21: revenus
B22: Fiche 10 | C22: {=+INDIRECT("'"&J22&"'!E2")} -> Pensions de retraite | D22: Ü | E22: =+HYPERLINK("#"&"'"&J22&"'!E2","Atteindre") -> Atteindre | J22: pension_retraite
C23: Assurances
B24: Fiche 11 | C24: {=+INDIRECT("'"&J24&"'!E2")} -> Assurances-vie | D24: Ü | E24: =+HYPERLINK("#"&"'"&J24&"'!E2","Atteindre") -> Atteindre | J24: assurance_vie
B25: Fiche 12 | C25: {=+INDIRECT("'"&J25&"'!E2")} -> Autres assurances / Prévoyances complémentaires | D25: Ü | E25: =+HYPERLINK("#"&"'"&J25&"'!E2","Atteindre") -> Atteindre | J25: autres_assurances
C26: Patrimoine mobilier
B27: Fiche 13 | C27: {=+INDIRECT("'"&J27&"'!E2")} -> Banques / Comptes épargne / de placements | D27: Ü | E27: =+HYPERLINK("#"&"'"&J27&"'!E2","Atteindre") -> Atteindre | J27: comptes_epargne_placements
B28: Fiche 14 | C28: {=+INDIRECT("'"&J28&"'!E2")} -> Autre patrimoine mobilier | D28: Ü | E28: =+HYPERLINK("#"&"'"&J28&"'!E2","Atteindre") -> Atteindre | J28: autre_patrimoine_mobilier
C29: Patrimoine immobilier
B30: Fiche 15 | C30: {=+INDIRECT("'"&J30&"'!E2")} -> Patrimoine Immobilier (résidences) | D30: Ü | E30: =+HYPERLINK("#"&"'"&J30&"'!E2","Atteindre") -> Atteindre | J30: residences
B31: Fiche 16 | C31: {=+INDIRECT("'"&J31&"'!E2")} -> Patrimoine immobilier (Titres détenus) | D31: Ü | E31: =+HYPERLINK("#"&"'"&J31&"'!E2","Atteindre") -> Atteindre | J31: titres
C32: Compléments
B33: Patrimoine | C33: Approche patrimoniale globale | D33: Ü | E33: =+HYPERLINK("#"&"'"&J33&"'!E2","Atteindre") -> Atteindre | J33: approche patrimoniale
B34: Hommes clés | C34: {=+INDIRECT("'"&J34&"'!E2")} -> Liste hommes clés | D34: Ü | E34: =+HYPERLINK("#"&"'"&J34&"'!E2","Atteindre") -> Atteindre | J34: hommes_cles
B35: Assurance dépendance | C35: {=+INDIRECT("'"&J35&"'!E2")} -> A l'attention des parents âgés ayant à charge leurs enfants devenus adultes handicapés | D35: Ü | E35: =+HYPERLINK("#"&"'"&J35&"'!E2","Atteindre") -> Atteindre | J35: assurance_dependance
B36: Adresses utiles | C36: {=+INDIRECT("'"&J36&"'!E2")} -> Adresses utiles | D36: Ü | E36: =+HYPERLINK("#"&"'"&J36&"'!E2","Atteindre") -> Atteindre | J36: adresses_utiles
B37: Lettres types | C37: {=+INDIRECT("'"&J37&"'!D3")} -> Quelques exemples de lettres types | D37: Ü | E37: =+HYPERLINK("#"&"'"&J37&"'!E2","Atteindre") -> Atteindre | J37: lettres_types
B38: Notes personnelles | C38: {=+INDIRECT("'"&J38&"'!C2")} -> Notes personnelles | D38: Ü | E38: =+HYPERLINK("#"&"'"&J38&"'!E2","Atteindre") -> Atteindre | J38: notes_personnelles

Sheet Présentation
B2: Dossier Patrimonial du Retraité
B4: Présentation
B6: Ce document appelé "Dossier Patrimonial du Retraité " est un guide qui a pour objectif de recenser,
B7: de manière la plus exhaustive possible, toutes les données personnelles d'une personne dans le but de suivre son patrimoine mais aussi de faciliter sa
B8: succession et de faire connaître à ses proches ses souhaits post-mortem.
B10: Sa conception permet de le réaliser, soit manuellement, soit sur un ordinateur disposant d'un logiciel Excel.
B12: S'agissant d'un guide, le contenu de chaque fiche est un rappel des informations devant figurer dans ce dossier.
B13: L'utilisation d'Excel permettra donc d'adapter ce contenu à ses propres particularités.
B15: Toutes données recueillies sur les différentes fiches devront être décrites de manière succincte.
B16: Elles seront complétées par des indications sur le lieu de détention des documents ou actes justificatifs (ou l'emplacement informatique
B17: du stockage des documents numérisés) dans lesquels les intéressés puiseront les détails dont ils ont besoin pour organiser la succession.
B18: En outre, la rubrique " Ajouts personnels" en bas de certaines fiches permettra au rédacteur d'y inclure des
... B29: Bonne navigation dans le DPR !

Sheet Mode_emploi
B1: Dossier Patrimonial du Retraité
B2: Mode d'emploi
B4: Les fiches
B5: L'outil est composé de 16 fiches à renseigner le plus exhaustivement possible pour qu'il puisse être utile à vous et vos proches si nécessaire
B7: Sur chaque fiche, seules les cases à remplir sont accessibles (aidez-vous de la touche "Tabulation" de votre clavier pour avancer de cellule en cellule)
B9: Certaines cellules disposent d'une liste déroulante (une flèche apparaît à droite de la cellule lorsque vous sélectionnez la cellule)
B10: Pour ces cellules, il vous suffit de sélectionner votre choix parmi les propositions
B12: Certaines cellules disposent d'un commentaire qui vient préciser ce qu'on attend de vous comme information.
B13: Une fenêtre pop-up jaune s'ouvre sur la droite lorsque vous atteignez cette cellule ou lorsque vous approchez le curseur de la souris dessus.
B15: Il vous est possible d'ajouter des lignes s'il en venait à manquer pour certaines informations.
B16: Pour ce faire, vous devez d'abord cocher la case "En-têtes" dans l'onglet "Affichage|Afficher" du ruban
B18: Naviguer dans l'outil
... B37: Toute l'équipe de ECR Fédération vous souhaite une bonne navigation dans l'outil DPR !

Sheet Liste des docs nécessaires
B2: Liste des documents utiles selon les différents thèmes abordés
B3: Cette fiche est susceptible d'être complétée autant que de besoin par le retraité pour y retrouver un maximum de documents utiles au dossier patrimonial
B5: =Sommaire!C11 -> Situation personnelle
I6: 1 | K6: =I6+1 -> 2 | M6: =K6+1 -> 3
B7: =_xlfn.XLOOKUP(I7,Sommaire!$B:$B,Sommaire!$C:$C) -> Votre situation personnelle | D7: =_xlfn.XLOOKUP(K7,Sommaire!$B:$B,Sommaire!$C:$C) -> Situation post-mortem | F7: =_xlfn.XLOOKUP(M7,Sommaire!$B:$B,Sommaire!$C:$C) -> Liste des personnes vivant au foyer et à charge | I7: ="fiche "&I6 -> fiche 1 | K7: ="fiche "&K6 -> fiche 2 | M7: ="fiche "&M6 -> fiche 3
B8: Livret militaire | D8: Documents relatifs à l'incinération
B9: Contrat de mariage | D9: Attestation d'autorisation de prélèvements sur mon corps après mon décès
B10: Contrat de PACS
B11: Testament
B12: Arbre généalogique
B13: Actes de donation
I17: =M6+1 -> 4 | K17: =I17+1 -> 5 | M17: =K17+1 -> 6
B18: =_xlfn.XLOOKUP(I18,Sommaire!$B:$B,Sommaire!$C:$C) -> Objectifs patrimoniaux | D18: =_xlfn.XLOOKUP(K18,Sommaire!$B:$B,Sommaire!$C:$C) -> Couverture sociale | F18: =_xlfn.XLOOKUP(M18,Sommaire!$B:$B,Sommaire!$C:$C) -> Fiscalité personnelle | I18: ="fiche "&I17 -> fiche 4 | K18: ="fiche "&K17 -> fiche 5 | M18: ="fiche "&M17 -> fiche 6
D19: Attestation carte vitale | F19: Avis d'imposition d'impôt sur le revenu
D20: Attestation carte d'invalidité | F20: Avis d'imposition d'impôt sur la fortune immobilière
D21: Décomptes d'assurance Maladie | F21: Taxes foncières
D22: Décomptes d'assurance Vieillesse | F22: Taxes d'habitation
D23: Décomptes d'allocations familiales
B29: =Sommaire!C18 -> Revenus/Budget
I30: 7 | K30: =I30+1 -> 8 | M30: =K30+1 -> 9
B31: =_xlfn.XLOOKUP(I31,Sommaire!$B:$B,Sommaire!$C:$C) -> Etat détaillé des dépenses courantes annuelles | D31: =_xlfn.XLOOKUP(K31,Sommaire!$B:$B,Sommaire!$C:$C) -> Budget de vie actuel et futur | F31: =_xlfn.XLOOKUP(M31,Sommaire!$B:$B,Sommaire!$C:$C) -> Revenu minimum du conjoint survivant : Monsieur - Madame - Enfants | I31: ="fiche "&I30 -> fiche 7 | K31: ="fiche "&K30 -> fiche 8 | M31: ="fiche "&M30 -> fiche 9
I41: =M30+1 -> 10
B42: =_xlfn.XLOOKUP(I42,Sommaire!$B:$B,Sommaire!$C:$C) -> Pensions de retraite | I42: ="fiche "&I41 -> fiche 10 | K42: ="fiche "&K41 -> fiche | M42: ="fiche "&M41 -> fiche
B43: Contrat CARSAT
B44: Contrat AGIRC
B45: Contrat ARCCO
B46: Contrat Cavec
B53: =Sommaire!C23 -> Assurances
I54: 11 | K54: =I54+1 -> 12
B55: =_xlfn.XLOOKUP(I55,Sommaire!$B:$B,Sommaire!$C:$C) -> Assurances-vie | D55: =_xlfn.XLOOKUP(K55,Sommaire!$B:$B,Sommaire!$C:$C) -> Autres assurances / Prévoyances complémentaires | I55: ="fiche "&I54 -> fiche 11 | K55: ="fiche "&K54 -> fiche 12
B56: Assurance-vie | D56: Assurance Véhicules
D57: Multirisque Habitation
D58: Responsabilité Civile spéciale
D59: Assurance Complémentaire Accidents
D60: Garanties Obsèques
B66: =Sommaire!C26 -> Patrimoine mobilier
I67: =K54+1 -> 13 | K67: =I67+1 -> 14
B68: =_xlfn.XLOOKUP(I68,Sommaire!$B:$B,Sommaire!$C:$C) -> Banques / Comptes épargne / de placements | D68: =_xlfn.XLOOKUP(K68,Sommaire!$B:$B,Sommaire!$C:$C) -> Autre patrimoine mobilier | I68: ="fiche "&I67 -> fiche 13 | K68: ="fiche "&K67 -> fiche 14 | M68: ="fiche "&M67 -> fiche
B69: Relevés bancaires des différents comptes bancaires | D69: Relevés bancaires des différents comptes épargne
B70: Contrat de coffre fort
...

Sheet SITUATION PERSONNELLE----->

Sheet Situ_perso
E2: Votre situation personnelle
E3: Nom & Prénom / Courriel | F3: =+nom&" "&prenom&" / "&courriel -> Nom test Prénom Test / Mail Test
E4: Vos coordonnées
E5: Nom | H5: =+nom -> Nom test
E6: Prénoms(s) | H6: =+prenom -> Prénom Test
E7: Adresse
E8: Code postal / Ville
E9: Date de naissance
E10: Lieu de naissance
E11: N° de Sécurité Sociale
E12: Courriel | H12: =+courriel -> Mail Test
E15: Situation militaire
E16: Situation militaire
E17: Décorations
E18: Compléments
E20: Situation domiciliaire de la résidence principale
E21: Vous êtes ? | H21: Propriétaire
E22: Type de logement | H22: Appartement
E23: Coordonnées de l'étude notariale / du bailleur | H23: coordonnées du notaire
E24: Compléments
E26: Situation matrimoniale
E27: Situation matrimoniale initiale
E28: • Régime du mariage | H28: (à remplir si mariage)
E29: • Date du contrat
E30: • Date du mariage/PACS
E31: • Lieu du mariage civil/PACS
E32: • Mariage religieux
E33: Compléments
E35: En cas de divorce
E36: • Conséquences
E37: • Date du jugement
E38: • Coordonnées du Tribunal qui a prononcé le jugement
E39: Compléments
E42: Enfants / Petits-enfants
E43: Enfants du couple actuel
... E82: Situation vis-à-vis du conjoint et des enfants
E83: Avez-vous rédigé un testament ? | H83: Oui, olographe
E84: Existe-t-il une donation “au dernier vivant”
E85: Des donations à des enfants ont-elles déjà été réalisées ?
E86: Autre(s) donation(s)
...

Sheet Situ_post_mortem
E2: Situation post-mortem
E3: Nom & Prénom / Courriel | F3: =+nom&" "&prenom&" / "&courriel -> Nom test Prénom Test / Mail Test
E4: Situation post-mortem
E5: Désirez-vous être incinéré(e)
E6: En cas d'incinération, quel emplacement des cendres désirez-vous ?
E7: Autres désirs
E8: • Obsèques religiieuses
E9: • Obsèques civiles
E10: • Modalités particulières souhaitées pour la cérémonie des obsèques :
E11: Cimetière
E12: • Coordonnées du cimetière (souhaité, le cas échéant)
E13: • Disposez-vous :
E14: • Caveau familial ?
E15: • Avec concession ?
... E30: • La Sécurité sociale :
E31: • Les organismes payeurs de la retraite | H31: voir fiche 9 - couverture sociale
E32: • Les autres organismes me versant des rentes. | H32: voir fiche 9 - couverture sociale
E33: • Les organismes d’assurance | H33: voir fiche 11 - Autres assurances / Prévoyances complémentaires
E34: • La (ou les) Banque(s). | H34: voir fiche 12 - Banques
E35: 4- Demander 10 certiﬁcats de décès
E37: Ajouts personnels :
E41: Liste des documents à classer pour cette partie
E42: Nature | F42: Classé numériquement | G42: Emplacement physique
E43: Documents relatifs à l'incinération
E44: Attestation d'autorisation de prélèvements sur mon corps après mon décès

Sheet personnes_du_foyer
E2: Liste des personnes vivant au foyer et à charge
E3: Nom & Prénom / Courriel | F3: =+nom&" "&prenom&" / "&courriel -> Nom test Prénom Test / Mail Test
E4: Situation des ascendants
E5: Degrés | F5: Noms et prénoms | G5: Année de naissance | H5: Situation familiale | I5: Note sur la dépendance
E6: Père de Mr
E7: Mère de Mr
E8: Père de Mme
E9: Mère de Mme
E12: Situation des personnes vivant au foyer et à considérer à charge
E13: Degrés | F13: Noms et prénoms | G13: Année de naissance | H13: Situation familiale | I13: Note sur la dépendance
E14: Epoux ou concubin 1
E15: Epoux ou concubin 2
E16: Enfant 1
E17: Enfant 2
E18: Enfant 3
E19: Enfant 4
E20: Enfant 5
E21: Enfant mariage précédent
E22: Petit enfant 1
E23: Petit enfant 2
E24: Petit enfant 3
E25: Adopté 1 S ou P
... E40: Liste des documents à classer pour cette partie
E41: Nature | F41: Classé numériquement | G41: Emplacement physique

Sheet objectifs_patrimoniaux
E2: Objectifs patrimoniaux
E3: Nom & Prénom / Courriel | G3: =+nom&" "&prenom&" / "&courriel -> Nom test Prénom Test / Mail Test
E4: Horizon/terme | F4: Objectifs prioritaires : exposé
E11: Horizon/terme | F11: Objectifs secondaires : exposé
E18: Ajouts personnels
E22: Liste des documents à classer pour cette partie
E23: Nature | F23: Classé numériquement | G23: Emplacement physique

Sheet couverture_sociale
E2: Couverture sociale
E3: Nom & Prénom / Courriel | F3: =+nom&" "&prenom&" / "&courriel -> Nom test Prénom Test / Mail Test
E4: Couverture sociale | F4: Nom de la caisse/du centre | G4: Coordonnées | H4: Téléphone
E5: Caisse Assurance Maladie
E6: Où est classée l'attestation de Carte Vitale ?
E7: Caisse Assurance Vieillesse
E8: En cas de Carte d'invalidité, où est-elle classée ?
E9: Caisse Allocations Familiales
E10: Aide personnalisée à l’autonomie (assurance)
E11: Autres
E13: Si mandat de protection future
E14: Nom du notaire
E15: Adresse
E16: Téléphone
E17: Où est classée la copie du mandat ?
... E24: Liste des documents à classer pour cette partie
E25: Nature | F25: Classé numériquement | G25: Emplacement physique
E26: Attestation carte vitale
E27: Attestation carte d'invalidité
E28: Décomptes d'assurance Maladie
E29: Décomptes d'assurance Vieillesse
E30: Décomptes d'allocations familiales

Sheet fiscalite_perso
E2: Fiscalité personnelle
E3: Nom & Prénom / Courriel | F3: =+nom&" "&prenom&" / "&courriel -> Nom test Prénom Test / Mail Test
E4: Centre des impôts du domicile
E5: Nom | F5: CDI
E6: Coordonnées | F6: Coordonnées du CDI
E8: Situation fiscale
E9: Impôt sur le revenu
E10: Impôt sur la fortune immobilière
E12: Liste des taxes foncières
E13: Liste | F13: Emplacement physique / numérisé ( Tous les décomptes sont classés dans : )
E18: Liste des taxes d'habitation
E19: Liste | F19: Emplacement physique / numérisé ( Tous les décomptes sont classés dans : )
E24: Contentieux en cours | G24: Documents - Adresse - Téléphone
E25: Litiges en cours Nature - Description
E26: Procédures judiciaires en cours Nature - Description
E28: Ajouts personnels :
E32: Liste des documents à classer pour cette partie
E33: Nature | F33: Classé numériquement | G33: Emplacement physique
E34: Avis d'imposition d'impôt sur le revenu
E35: Avis d'imposition d'impôt sur la fortune immobilière
E36: Taxes foncières
E37: Taxes d'habitation

Sheet REVENUS_BUDGET----->

Sheet depenses_courantes
E2: Etat détaillé des dépenses courantes annuelles
E3: Nom & Prénom / Courriel | F3: =+nom&" "&prenom&" / "&courriel -> Nom test Prénom Test / Mail Test
E4: Dépenses | F4: Habitation principale | G4: Résidence(s) secondaire(s)
E5: Taxe d'habitation
E6: Taxe foncière
E7: Mutuelle
E8: Chauffage
E9: Electricité
E10: Gaz
E11: Eau
E12: Frais bancaires
E13: Téléphone
E14: Femme de ménage
E15: Jardinier
E16: Charges locatives
... E18: Entretien
E24: Total | F24: =SUM(F5:F22) -> 0 | G24: =SUM(G5:G22) -> 0
E27: Ajouts personnels :

Sheet budget
E2: Budget de vie actuel et futur
E3: Nom & Prénom / Courriel | F3: =+nom&" "&prenom&" / "&courriel -> Nom test Prénom Test / Mail Test
E4: Budget | H4: Actuel | I4: Futur
E5: Revenus Monsieur (salaire, rémunération, pensions retraite invalidité)
E6: Revenus Madame (salaire, rémunération, pensions retraite invalidité)
E7: Revenus enfants à charge (pensions alimentaires,
E8: Revenus fonciers
E9: Autres revenus du ménage (allocations, revenu capital, intérêts, ….)
E11: A - Total revenus | H11: =SUM(H5:H9) -> 0 | I11: =SUM(I5:I9) -> 0
E12: Dépenses courantes incompressibles : aliment°, entretien, conso, transport, impôt
E13: Dépenses cadre de vie incompressibles : crédits, loyer, assurances, garde enfant
E14: Dépenses de loisirs et culture compressibles : voyages, résidence secondaire, etc
E15: Dépenses de confort compressibles : habillement, voiture, électroménager, tel-TV
E16: Dépenses exceptionnelles envisagées : travaux résidence, soins, epadh ………..
E18: B - Total « train de vie » | H18: =SUM(H12:H17) -> 0 | I18: =SUM(I12:I17) -> 0
E19: Capacité d’épargne annuelle (+) (A-B) | H19: =H11-H18 -> 0 | I19: =I11-I18 -> 0
E20: Épargne annuelle des assurances vie (+)
E21: Épargne annuelle des titres et comptes d’épargne (+)
E22: Contrats assurance-vie et épargne actuels à servir (-)
E23: Emprunts et dettes à payer (-)
E25: Capacité d’épargne résiduelle annuelle | H25: =+SUM(H19:H24) -> 0 | I25: =+SUM(I19:I24) -> 0
E27: Centres d’intérêts actuels/futurs et couts annuels (à détailler) | H27: Actuel | I27: Futur
E34: Total Centres d'intérêts | H34: =+SUM(H28:H33) -> 0 | I34: =+SUM(I28:I33) -> 0
E38: Ajouts personnels :

Sheet revenus
E2: Revenu minimum du conjoint survivant : Monsieur - Madame - Enfants
E3: Nom & Prénom / Courriel | F3: =+nom&" "&prenom&" / "&courriel -> Nom test Prénom Test / Mail Test
E4: Nom du parent survivant : | H4: 0 – 5 ans | I4: + 5 à 10 ans | J4: + 10 à 15 ans | K4: + 15 ans
A5: Objectif de cette fiche : En moyenne sur chaque période de 5 ans à venir, quel est votre besoin mensuel brut minimum pour maintenir le train de vie souhaité ? Penser aux âges (M. Mme et personnes à charges). | E5: Age du parent survivant
E6: Age des enfants ou des personnes à charges
H7: En €/mois | I7: En €/mois | J7: En €/mois | K7: En €/mois
E8: Ensemble des revenus personnels :
E9: • prof + pensions, retraites, rentes
E10: • pensions de reversion du décédé
E11: Ensemble des revenus du patrimoine actuel après succession :
E12: • immobilier
E13: • financiers
E14: Totaux | H14: =SUM(H8:H13) -> 0 | I14: =SUM(I8:I13) -> 0 | J14: =SUM(J8:J13) -> 0 | K14: =SUM(K8:K13) -> 0
E15: Revenus supplémentaire espérés ou exceptionnels
E16: Ou encore : montant des revenus complémentaires que pourrait produire le patrimoine
E17: Totaux | H17: =SUM(H14:H16) -> 0 | I17: =SUM(I14:I16) -> 0 | J17: =SUM(J14:J16) -> 0 | K17: =SUM(K14:K16) -> 0
E18: Charges mensuelles moyennes
E19: Voir budget futur ci-avant | H19: =H9+H10+H12+H13 -> 0 | I19: =I9+I10+I12+I13 -> 0 | J19: =J9+J10+J12+J13 -> 0 | K19: =K9+K10+K12+K13 -> 0
E20: Besoin/Excédent net mensuel | H20: =H17-H18 -> 0 | I20: =I17-I18 -> 0 | J20: =J17-J18 -> 0 | K20: =K17-K18 -> 0
E22: Questions à se poser
E24: · le patrimoine produit-il son montant optimum de revenus ?
E25: · un héritage, ou un revenu exceptionnel est-il à envisager ?
E26: · le survivant conservera t-il la charge de remboursement sur les crédits non assurés ?
E27: · le survivant conservera t-il son revenu professionnel ?
E29: Ajouts personnels :

Sheet pension_retraite
E2: Pensions de retraite
E3: Nom & Prénom / Courriel | F3: =+nom&" "&prenom&" / "&courriel -> Nom test Prénom Test / Mail Test
E4: Monsieur
E5: Régime de base
E6: Caisse | F6: Montant annuel | G6: Périodicité de versement | H6: Tx de réversion théorique | I6: Réversion estimée
E7: Carsat | H7: 0.54 | I7: =+F7*H7 -> 0
E8: Autres | H8: 0.54 | I8: =+F8*H8 -> 0
E9: Autres | H9: 0.54 | I9: =+F9*H9 -> 0
E10: Total | F10: =+SUM(F7:F9) -> 0 | I10: =SUM(I7:I9) -> 0
E12: Régimes complémentaire
E13: Caisse | F13: Montant annuel | G13: Périodicité de versement | H13: Tx de réversion théorique | I13: Réversion estimée
E14: Agirc | H14: 0.6 | I14: =+F14*H14 -> 0
E15: Arcco | H15: 0.6 | I15: =+F15*H15 -> 0
E16: Cavec | H16: 0.6 | I16: =+F16*H16 -> 0
E17: Autres | H17: 0.6 | I17: =+F17*H17 -> 0
E18: Totaux | F18: =+SUM(F14:F17) -> 0 | I18: =+SUM(I14:I17) -> 0
E21: Madame
E22: Régime de base
E23: Caisse | F23: Montant annuel | G23: Périodicité de versement | H23: Tx de réversion théorique | I23: Réversion estimée
E24: Carsat | H24: 0.54 | I24: =+F24*H24 -> 0
E25: Autres | H25: 0.54 | I25: =+F25*H25 -> 0
E26: Autres | H26: 0.54 | I26: =+F26*H26 -> 0
E27: Total | F27: =+SUM(F24:F26) -> 0 | I27: =SUM(I24:I26) -> 0
E29: Régimes complémentaire
E30: Caisse | F30: Montant annuel | G30: Périodicité de versement | H30: Tx de réversion théorique | I30: Réversion estimée
E31: Agirc | H31: 0.6 | I31: =+F31*H31 -> 0
E32: Arcco | H32: 0.6 | I32: =+F32*H32 -> 0
E33: Cavec | H33: 0.6 | I33: =+F33*H33 -> 0
E34: Autres | H34: 0.6 | I34: =+F34*H34 -> 0
E35: Totaux | F35: =+SUM(F31:F34) -> 0 | I35: =+SUM(I31:I34) -> 0
E38: Ajouts personnels :
E42: Liste des documents à classer pour cette partie
E43: Nature | F43: Classé numériquement | G43: Emplacement physique
E44: Contrat CARSAT
E45: Contrat AGIRC
E46: Contrat ARCCO
E47: Contrat Cavec

Sheet ASSURANCES---->

Sheet assurance_vie
E2: Assurances-vie
E3: Nom & Prénom / Courriel | H3: =+nom&" "&prenom&" / "&courriel -> Nom test Prénom Test / Mail Test
E4: Num contrat | F4: Nature | G4: Date d'effet | H4: Date de souscription | I4: Valeur économique | J4: Origine des fonds | K4: Souscripteur | L4: Bénéficiaire | M4: Assuré
E5: 1
E6: 2
E7: 3
E8: 4
E9: 5
H10: Total | I10: =+SUM(I5:I9) -> 0
E12: Ajouts personnels :
E16: Liste des documents à classer pour cette partie
E17: Num contrat | F17: Nature | G17: Classé numériquement | I17: Emplacement physique
E18: 1
E19: 2
E20: 3
E21: 4
E22: 5

Sheet autres_assurances
E2: Autres assurances / Prévoyances complémentaires
E3: Nom & Prénom / Courriel | F3: =+nom&" "&prenom&" / "&courriel -> Nom test Prénom Test / Mail Test
E4: Autres Assurances | F4: Contrats | H4: Emplacement physique / numérisé ( Tous les décomptes sont classés dans : )
E5: Assurance véhicule N°1 | F5: Véhicule
F6: Compagnie
F7: Agent
F8: N° Dossier
E9: Assurance véhicule N°2 | F9: Véhicule
F10: Compagnie
F11: Agent
F12: N° Dossier
E13: Assurance véhicule N°3 | F13: Véhicule
F14: Compagnie
F15: Agent
F16: N° Dossier
E17: Multirisque Habitation | F17: Compagnie
F18: Agent
F19: N° Dossier
E20: Responsabilité Civile spéciale | F20: Compagnie
F21: Agent
F22: N° Dossier
E23: Assurance Complémentaire Accidents | F23: Compagnie
F24: Agent
F25: N° Dossier
E26: Garanties Obsèques | F26: Compagnie
F27: Agent
F28: N° Dossier
E29: Autres | F29: Compagnie
F30: Agent
F31: N° Dossier
E33: Prévoyances complémentaires | F33: Contrats | H33: Emplacement physique / numérisé ( Tous les décomptes sont classés dans : )
E35: Mutuelle 1 | F35: Compagnie
F36: Agent
F37: N° Dossier
E38: Mutuelle 2 | F38: Compagnie
F39: Agent
F40: N° Dossier
E41: Mutuelle 3 | F41: Compagnie
F42: Agent
F43: N° Dossier
...

Sheet PATRIMOINE MOB ---->

Sheet comptes_epargne_placements
E2: Banques / Comptes épargne / de placements
E3: Nom & Prénom / Courriel | F3: =+nom&" "&prenom&" / "&courriel -> Nom test Prénom Test / Mail Test
E4: Comptes | F4: Contrats | H4: Solde au 31/12 | I4: Classé numériquement | J4: Emplacement physique
E5: Comptes courants
E6: Compte courant personnel | F6: Banque (Nom et coordonnées)
F7: N° Compte
E8: Compte courant conjoint | F8: Banque (Nom et coordonnées)
F9: N° Compte
E10: Epargne
E11: Livret Caisse d'épargne | F11: Banque (Nom et coordonnées)
F12: N° Compte
E13: Livret bancaire | F13: Banque (Nom et coordonnées)
F14: N° Compte
E15: Plan Epargne Logement | F15: Banque (Nom et coordonnées)
F16: N° Compte
E17: PEA | F17: Banque (Nom et coordonnées)
F18: N° Compte
E19: Livret de Développement Durable | F19: Banque (Nom et coordonnées)
F20: N° Compte
E21: Plan Epargne Retraite | F21: Banque (Nom et coordonnées)
F22: N° Compte
E23: Portefeuille de valeurs mobilières | F23: Banque (Nom et coordonnées)
F24: N° Compte
E25: Autres titres bancaires | F25: Banque (Nom et coordonnées)
F26: N° Compte
E27: Total des valorisations Epargne au 31/12 | H27: =+SUM(H11:H25) -> 0
E29: Coffre bancaire | F29: Banque (Nom et coordonnées)
E32: Ajouts personnels :
E36: Liste des documents à classer pour cette partie
E37: Nature | F37: Classé numériquement | H37: Emplacement physique
E38: Pour chaque compte ci-dessus, précisez sur la même ligne l'emplacement numérique ou physique afin de facilement le retrouver
E39: Relevés bancaires

Sheet autre_patrimoine_mobilier
E2: Autre patrimoine mobilier
E3: Nom & Prénom / Courriel | F3: =+nom&" "&prenom&" / "&courriel -> Nom test Prénom Test / Mail Test
E4: Nature des biens possédés (cocher la case) | H4: Valeur au 31/12 | I4: Précisions-Commentaires | J4: Où peut-ont les trouver ?
E5: • Meubles de valeur
E6: • Bijoux
E7: • Objets d'art
E8: • Objets dits "de famille"
E9: • Collections
E10: • Biens d'usage
E11: • Autres (précisez ci-dessous)
E14: Total de la valorisation | H14: =+SUM(H5:H13) -> 0
E17: Ajouts personnels :

Sheet PATRIMOINE IMMOB ---->

Sheet residences
E2: Patrimoine Immobilier (résidences)
E3: Nom & Prénom / Courriel | F3: =+nom&" "&prenom&" / "&courriel -> Nom test Prénom Test / Mail Test
E4: Résidence principale
G5: Emplacement des documents (physique ou numérisé)
E6: • Votre situation | F6: =Situ_perso!H21 -> Propriétaire
E7: • Coordonnées de l'étude notariale / du bailleur | F7: =Situ_perso!H23 -> coordonnées du notaire
E8: • Centre(s) des impôts | F8: =fiscalite_perso!F5&" - "&fiscalite_perso!F6 -> CDI - Coordonnées du CDI
E9: Régime fiscal
E10: • Si vous êtes propriétaire
E11: • Situation
E12: • Pourcentage de détention (%) (si indivision)
E13: • Nature de la détention (si démembrement)
E14: • Date d’achat
E15: • Origine (Achat, héritage…)
E16: • Titre de propriété, clauses de voisinage
E17: • Emprunt(s)
E18: Nom de la banque
E19: Coordonnées
E20: • Hypothèque(s)
... E27: Résidence secondaire
G28: Emplacement des documents (physique ou numérisé)
E29: • Votre situation
E30: • Coordonnées de l'étude notariale / du bailleur
E31: • Centre(s) des impôts
E32: Régime fiscal
E33: • Si vous êtes propriétaire
E34: • Situation
E35: • Pourcentage de détention (%) (si indivision)
E36: • Nature de la détention (si démembrement)
E37: • Date d’achat
E38: • Origine (Achat, héritage…)
E39: • Titre de propriété, clauses de voisinage
E40: • Emprunt(s)
... E50: Biens en location
G51: Emplacement des documents (physique ou numérisé)
E52: • Votre situation
E53: • Coordonnées de l'étude notariale / du bailleur
E54: • Centre(s) des impôts
E55: Régime fiscal
E56: • Si vous êtes propriétaire
...

Sheet titres
E2: Patrimoine immobilier (Titres détenus)
E3: Nom & Prénom / Courriel | F3: =+nom&" "&prenom&" / "&courriel -> Nom test Prénom Test / Mail Test
E4: Entité | F4: Forme juridique | G4: Coordonnées | I4: Classé numériquement | J4: Emplacement physiques
E5: Entité 1 | G5: Nom
A6: Important : ne noter aucun code de carte bleue, entrée domicile, mot de passe, etc. | G6: Adresse complète
G7: Coordonnées du CDI
G8: Coordonnées du notaire
G9: Complément d'informations
G10: Valorisation au 31/12
E11: Entité 2 | G11: Nom
G12: Adresse complète
G13: Coordonnées du CDI
G14: Coordonnées du notaire
G15: Complément d'informations
G16: Valorisation au 31/12
E17: Entité 3 | G17: Nom
G18: Adresse complète
G19: Coordonnées du CDI
G20: Coordonnées du notaire
G21: Complément d'informations
G22: Valorisation au 31/12
E23: Entité 4 | G23: Nom
G24: Adresse complète
G25: Coordonnées du CDI
G26: Coordonnées du notaire
G27: Complément d'informations
G28: Valorisation au 31/12
E29: Entité 5 | G29: Nom
G30: Adresse complète
G31: Coordonnées du CDI
G32: Coordonnées du notaire
G33: Complément d'informations
G34: Valorisation au 31/12
E36: Total des valorisations au 31/12 | H36: =+H10+H16+H22+H28+H34 -> 0
E39: Ajouts personnels :
E43: Liste des documents à classer pour cette partie
E44: Nature | F44: Classé numériquement | H44: Emplacement physique
E45: Pour chaque entité ci-dessus, précisez sur la même ligne l'emplacement numérique ou physique des documents à conserver afin de facilement les retrouver
E46: Statuts
E47: PV d'assemblées
...

Sheet COMPLEMENTS ---->

Sheet Approche patrimoniale
E2: COMPOSITION DU PATRIMOINE
H4: Valeur au 31/12 à répartir
F5: où trouver l'information ? | G5: Valeur au 31/12/ renseignée | H5: Biens de la communauté | I5: Biens propres de Monsieur | J5: Biens propres de Madame | K5: Contrôle Valeur ventilée
E6: Biens immobiliers
E7: Résidence principale | F7: =+HYPERLINK("#"&"'"&Z7&"'!E2","Atteindre") -> Atteindre | G7: =+residences!F25 -> 0 | K7: =+SUM(H7:J7) -> 0 | Z7: residences
E8: Résidence secondaire | F8: =+HYPERLINK("#"&"'"&Z8&"'!E2","Atteindre") -> Atteindre | G8: =+residences!F47 -> 0 | K8: =+SUM(H8:J8) -> 0 | Z8: residences
E9: Bien en location | F9: =+HYPERLINK("#"&"'"&Z9&"'!E2","Atteindre") -> Atteindre | G9: =+residences!F69 -> 0 | K9: =+SUM(H9:J9) -> 0 | Z9: residences
E10: Autres patrimoines immobiliers (Titres) | F10: =+HYPERLINK("#"&"'"&Z10&"'!E2","Atteindre") -> Atteindre | G10: =+titres!H36 -> 0 | K10: =+SUM(H10:J10) -> 0 | Z10: titres
E11: Total Biens immobiliers | H11: =+SUM(H7:H10) -> 0 | I11: =+SUM(I7:I10) -> 0 | J11: =+SUM(J7:J10) -> 0 | K11: =+SUM(K7:K10) -> 0
E13: Capitaux mobiliers | K13: =+SUM(H13:J13) -> 0
E14: Comptes épargne/de placements | F14: =+HYPERLINK("#"&"'"&Z14&"'!E2","Atteindre") -> Atteindre | G14: =+comptes_epargne_placements!H27 -> 0 | K14: =+SUM(H14:J14) -> 0 | Z14: comptes_epargne_placements
E15: Autre patrimoine mobilier | F15: =+HYPERLINK("#"&"'"&Z15&"'!E2","Atteindre") -> Atteindre | G15: =+autre_patrimoine_mobilier!H14 -> 0 | Z15: autre_patrimoine_mobilier
E16: Assurances vie | F16: =+HYPERLINK("#"&"'"&Z16&"'!E2","Atteindre") -> Atteindre | G16: =+assurance_vie!I10 -> 0 | Z16: assurance_vie
E17: Total Capitaux mobiliers | H17: =+SUM(H14:H16) -> 0 | I17: =+SUM(I14:I16) -> 0 | J17: =+SUM(J14:J16) -> 0 | K17: =+SUM(K14:K16) -> 0
E19: TOTAL ACTIF | F19: A | H19: =H11+H17 -> 0 | I19: =I11+I17 -> 0 | J19: =J11+J17 -> 0 | K19: =K11+K17 -> 0
E21: Passifs
E22: Passifs sur résidence principale | F22: =+HYPERLINK("#"&"'"&Z22&"'!E2","Atteindre") -> Atteindre | G22: =+residences!F26 -> 0 | K22: =+SUM(H22:J22) -> 0 | Z22: residences
E23: Passifs sur résidence secondaire | F23: =+HYPERLINK("#"&"'"&Z23&"'!E2","Atteindre") -> Atteindre | G23: =+residences!F48 -> 0 | K23: =+SUM(H23:J23) -> 0 | Z23: residences
E24: Passifs sur bien en location | F24: =+HYPERLINK("#"&"'"&Z24&"'!E2","Atteindre") -> Atteindre | G24: =+residences!F70 -> 0 | K24: =+SUM(H24:J24) -> 0 | Z24: residences
E25: Passifs sur autres patrimoines immobiliers | F25: à renseigner | K25: =+SUM(H25:J25) -> 0 | Z25: residences
E26: Autres passifs | F26: à renseigner | K26: =+SUM(H26:J26) -> 0
E27: TOTAL PASSIF | F27: B | H27: =+SUM(H22:H26) -> 0 | I27: =+SUM(I22:I26) -> 0 | J27: =+SUM(J22:J26) -> 0 | K27: =+SUM(K22:K26) -> 0
E29: ACTIF NET | F29: A-B | H29: =H19-H27 -> 0 | I29: =I19-I27 -> 0 | J29: =J19-J27 -> 0 | K29: =K19-K27 -> 0
E31: * Se reporter pour le détail du chiffre à la Fiche concernée

Sheet hommes_cles
E2: Liste hommes clés
E3: Nom & Prénom / Courriel | F3: =+nom&" "&prenom&" / "&courriel -> Nom test Prénom Test / Mail Test
E4: Catégorie | F4: Nom | G4: Adresse complète | H4: Téléphone | I4: Email
E5: Notaire
E6: Cabinet d'expertise comptable
E7: Avocats
E8: Banquiers
E9: Conseillers en gestion de patrimoine
E10: Assureurs
E11: Associés de sociétés en participation
E20: CODES ET PASSWORDS (CONFIDENTIELS) | G20: Adresse | H20: Téléphone | I20: Email
E21: Personne de confiance détenant la liste des codes et passowords ou lieu de dépôt dans un coffre bancaire
E22: Il s'agit des codes d'accès des ordinateurs, des entrées de domicile, des alarmes de sécurité, des accès internet …..

Sheet assurance_dependance
E2: A l'attention des parents âgés ayant à charge leurs enfants devenus adultes handicapés
E3: Nom & Prénom / Courriel | F3: =+nom&" "&prenom&" / "&courriel -> Nom test Prénom Test / Mail Test
E4: Pour le maintien dans leur domicile
E5: ASSURANCE DÉPENDANCE :
E6: Madame :
E7: Monsieur :
E8: COMPAGNIE :
E9: N° de téléphone à contacter :
E11: Ajouts personnels :

Sheet lettres_types
D1: DOSSIER PATRIMONIAL DU RETRAITE
D3: Quelques exemples de lettres types
D5: N’oubliez pas d’informer du décès les organismes cités dans les pages précédentes.
D6: Déclaration du décès à la mairie dans les 24 heures, puis courriers à la banque, l’employeur, les Assedic, la société d’assurance décès,
D7: voiture, habitation, la mutuelle complémentaire, la caisse régionale d’assurance-maladie, la CNAV et les caisses de retraite complémen-
D8: taires, le bailleur, le locataire, le syndic de copropriété, le centre des impôts, les fournisseurs d’eau, de gaz, d’électricité, des téléphones,
D9: la redevance audiovisuelle et les contrats d’abonnements (presse, internet…)
F11: Consigne : Les cases en jaune sont à renseigner ainsi que le paragraphe personnalisé selon le destinataire
D12: • Début de la lettre (commun à tous les organismes) La lettre recommandée avec avis de réception est indispensable pour s’assurer que le destinataire l’a bien reçue et la date à laquelle il l’a reçue. | F12: Vos prénom & nom
F13: Adresse
F14: Code postal & Ville
F15: Tél
F16: courriel
F18: Organisme destinataire
F19: Adresse
F20: Code postal & Ville
F22: À
F23: Le
F25: Madame, Monsieur,
F27: Suite au décès de M (Mme)…………………………...…………(lien de parenté), survenu le…/…/….., je procède aux démarches et formalités qui m’incombent.
F28: À ces ﬁns, je vous prie de trouver sous ce pli une copie de l’acte de décès et vous demande de bien vouloir prendre les mesures qui s’imposent dans la gestion de ce dossier du fait de cette disparition.
D29: Choisissez un paragrpahe parmi ceux proposés ci-après (faire un copier/coller) et correspondants au destinataire du courrier
D32: • Fin de la lettre (commun à tous les organismes) | F32: Par avance, je vous adresse mes remerciements et vous prie de bien vouloir agréer, Madame, Monsieur, l’expression de mes salutations distinguées.
D34: • PJ | F34: Pièces jointes : Acte de décès
D43: Destinataire | F43: consigne : Copier/Coller le paragraphe correspondant au destinataire du courrier
D45: Notaire | F45: Je désigne votre étude pour prendre en charge la succession. Votre étude de notaire s’occupe des biens de notre famille. Le (la) défunt(e) avait souhaité que vous preniez en charge la succession. Veuillez m’informer des démarches à accomplir et des pièces à vous communiquer.
D46: Organismes servant une retraite | F46: À ces ﬁns, je vous prie de trouver sous ce pli une copie de l’acte de décès et vous demande de bien vouloir prendre les mesures qui s’imposent dans la gestion de ce dossier du fait de cette disparition.
D47: Organismes servant une retraite avec demande de pension de réversion | F47: À ces ﬁns, je vous prie de trouver sous ce pli une copie de l’acte de décès et vous demande de bien vouloir m’adresser une demande d’allocation de pension de réversion ainsi que la liste des pièces à fournir pour la constitution du dossier.
D48: Association de Gestion des Informations sur le risque des Assurances | F48: À ces ﬁns, je vous prie de trouver sous ce pli une copie de l’acte de décès de cette personne qui parlait souvent des assurances-vie qu’elle avait souscrites. Peut-être suis-je bénéﬁciaire de l’une d’elles. Vous voudrez bien m’en informer.

Sheet notes_personnelles
C2: Notes personnelles
C4: Notes

Sheet adresses_utiles
E2: Adresses utiles
E4: ASSOCIATION FRANCAISE D’INFORMATION FUNERAIRE
E5: www.afif.asso.fr
E6: Organisme indépendant et impartial pour le public et les services sociaux : conseils lors d'un décès, comment choisir une société de pompes funèbres, législation funéraire, assurances obsèques, organismes d'aide, modèles de lettres, etc.
E8: FIN DE VIE – DIRECTIVES ANTICIPEES
E9: www.sosfindevie.org/directives-anticipees-fin-de-vie
E10: SOS Fin de vie est un service d'écoute. Il est animé par des bénévoles qui se tiennent à l'écoute pour accompagner les personnes dans leur questionnement.
E11: Présentation d’un modèle de document et d'un guide pour la rédaction des directives anticipées à mettre dans son dossier médical et à confier à un proche de confiance.
E13: www.service-public.fr/particuliers/vosdroits/F32010
E14: Toute personne majeure peut, si elle le souhaite, faire une déclaration écrite appelée directives anticipées pour préciser ses souhaits concernant sa fin de vie. Ce document aidera les ...
E16: MANDAT DE PROTECTION FUTURE – MANDAT A EFFET POSTHUME - TUTELLE
E17: https://www.formulaires.service-public.fr/gf/cerfa_13592.do
... E41: Les personnes concernées par votre succession ne sont pas forcément celles auxquelles vous pensez. Déterminer l'ordre des héritiers permettra d'établir la dévolution successorale.

Sheet TECH
B2: Pour la lettre type : permet de mettre en jaune ce qu'il y à remplir
B4: Vos prénom & nom
B5: Adresse
B6: Code postal & Ville
B7: Tél
B8: courriel
B10: Organisme destinataire
B11: Adresse
B12: Code postal & Ville
B14: À
B15: Le

Sheet FICHES A SUPPR ==>
B5: Les fiches qui suivent ont été reprises dans d'autres fiches => elles seront à suppr dans la version finale

Sheet 1
B2: Navigation
B4: Retour au sommaire
F6: DOSSIER PATRIMONIAL DU RETRAITE
F8: Documents à regrouper préalablement pour compléter efficacement votre dossier
G11: Contrat de mariage | L11: Donation entre époux
G12: Actes des donations et testaments | L12: Titres de propriétés immobilières
G13: Contrats d’emprunts immobiliers | L13: Contrats autres emprunts (consommation)
G14: Comptes bancaires | L14: Comptes d’épargne
G15: Produits banque | L15: * fiches AMF des SICAV – FCP
L16: * fiches techniques de l'établissement dépositaire
G17: Relevés de portefeuille titres
G18: Contrats d’assurance-vie : | L18: * fiches AMF des SICAV – FCP - unités de comptes
L19: * fiches techniques de l'établissement dépositaire
L20: * bulletin de souscription
L21: * conditions générales + particulières
L22: * relevé de compte fin année
L23: * clause bénéficiaire (contrat ou testament)
G25: 2042 déclaration d’ensemble des revenus 3 ans | L25: 2035 BNC et 2031 BIC sur 3 ans
G26: 2044 normale et spéciale revenus fonciers 3 ans | L26: 2048 PV mobilières immobilières
G27: Tous immeubles : avis taxes foncières | L27: Récapitulatif agence par apparts
G28: 2725 ISF des 3 dernières années | L28: Avis imposition IR sur 3 ans
G29: Notifications de redressement IR et ISF | L29: Litiges fiscaux en cours
G31: Entreprises : états financiers, déclarations fiscales | L31: statuts & registre des A.G. /5 ans
G32: SCI : états financiers, déclarations fiscales 2072 | L32: statuts & registre des A.G. /5 ans
G33: Tous immeubles SCI : avis taxes foncières | L33: Récapitulatif agence par apparts
G35: Retraite : relevé de carrière récent tous régimes
G36: Contrats d’assurance prévoyance (mutuelle, décès & rente)
G38: Famille : situation, activité, revenus détaillés membres du foyer fiscal, pensions versées
G39: Livrets de famille : copies intégrales
G40: Autre :

Sheet Fiche 18 OLD
F5: DOSSIER PATRIMONIAL DU RETRAITE
J7: Sommaire
F10: Patrimoine mobilier (Sociétés Civiles) | H10: Documents - Adresse - Téléphone | J10: Emplacement
F11: Cochez la bonne réponse | G11: Oui / Non | H11: Nom et adresse des Notaires :
F12: • Société Civile Immobilière
F13: • nom et siège de la SCI
F14: • Capital social ( nbre parts et valeur unitaire)
F15: • nom et adresse du Gérant
F16: • nom et adresse des Associés
F17: • Répartition des parts par associé :
F18: • Titre de propriété, Statuts, Bilans, documents juridiques
F19: • Lieu et origine immeubles (Achat, construction…)
F20: • Centre(s) des impôts dont dépend(ent) le ou les immeubles | H20: Centres des Impôts :
F21: • Emprunt(s) en cours
F22: • Société Civile de Placement
F23: • nom et siège de la Société
F24: • Capital social ( nbre parts et valeur unitaire)
F25: • nom et adresse du Gérant
F26: • nom et adresse des Associés
F27: • Répartition des parts par associé :
F28: • Titre de propriété, Statuts, Bilans, documents juridiques
F29: • Date d'acquisition des titres
F30: • Emprunt(s) en cours
F32: Ajouts personnels :

Sheet Fiche 19 OLD
F5: DOSSIER PATRIMONIAL DU RETRAITE
J7: Sommaire
F10: Patrimoine mobilier (Sociétés Commerciales) | H10: Documents - Adresse - Téléphone | J10: Emplacement
F11: Cochez la bonne réponse | G11: Oui / Non | H11: Nom et adresse des Notaires :
F12: • FORME JURIDIQUE
F13: • nom et siège de la Société
F14: • Capital social ( nbre parts ou actions et valeur unitaire)
F15: • nom et adresse du Dirigeant
F16: • nom et adresse des Associés
F17: • Répartition des parts par associé :
F18: • Titre de propriété, Statuts, Bilans, documents juridiques
F19: • Origine des titres
F20: • Centre(s) des impôts | H20: Centres des Impôts :
F21: • Emprunt(s) en cours
F22: • FORME JURIDIQUE | H22: Nom et adresse des Notaires :
F23: • nom et siège de la Société
F24: • Capital social ( nbre parts ou actions et valeur unitaire)
F25: • nom et adresse du Dirigeant
F26: • nom et adresse des Associés
F27: • Répartition des parts par associé :
F28: • Titre de propriété, Statuts, Bilans, documents juridiques
F29: • Origine des titres
F30: • Centre(s) des impôts | H30: Centres des Impôts :
F31: • Emprunt(s) en cours
F32: Ajouts personnels :

Sheet Fiche 21 OLD
E3: Nom & Prénom / Courriel | F3: =+nom&" "&prenom&" / "&courriel -> Nom test Prénom Test / Mail Test
E5: DOSSIER PATRIMONIAL DU RETRAITE
E9: Patrimoine mobilier (Actif et Passif) | G9: Documents - Adresse - Téléphone | I9: Emplacement
E10: Cochez la bonne réponse | F10: Oui / Non
E11: . Meubles de valeur | G11: Factures :
E12: . Bijoux Description - Origine - Factures | G12: Factures :
E13: . Objet(s) d'art Nature – description
E14: . Objet(s) dit(s) "de famille" Nature - description
E15: • Collection(s) Nature – description
E16: • Biens d'usage Nature – description
E17: • Emprunt(s) en cours (autres qu'immobilier) avec dossier(s) : organisme prêteur | G17: Organisme prêteur :
E18: • Autres
E20: Ajouts personnels :
